BEGIN:VCALENDAR
VERSION:2.0
PRODID:-//Hofküche Friedrichshagen - ECPv6.3.1//NONSGML v1.0//EN
CALSCALE:GREGORIAN
METHOD:PUBLISH
X-WR-CALNAME:Hofküche Friedrichshagen
X-ORIGINAL-URL:https://hofkueche-berlin.de
X-WR-CALDESC:Veranstaltungen für Hofküche Friedrichshagen
REFRESH-INTERVAL;VALUE=DURATION:PT1H
X-Robots-Tag:noindex
X-PUBLISHED-TTL:PT1H
BEGIN:VTIMEZONE
TZID:Europe/Berlin
BEGIN:DAYLIGHT
TZOFFSETFROM:+0100
TZOFFSETTO:+0200
TZNAME:CEST
DTSTART:20250330T010000
END:DAYLIGHT
BEGIN:STANDARD
TZOFFSETFROM:+0200
TZOFFSETTO:+0100
TZNAME:CET
DTSTART:20251026T010000
END:STANDARD
END:VTIMEZONE
BEGIN:VEVENT
DTSTART;TZID=Europe/Berlin:20251005T150000
DTEND;TZID=Europe/Berlin:20251005T200000
DTSTAMP:20260419T215243
CREATED:20250206T105008Z
LAST-MODIFIED:20251004T071306Z
UID:10001830-1759676400-1759694400@hofkueche-berlin.de
SUMMARY:ausverkauft Kochkurs "vegetarischer Herbst"
DESCRIPTION:Der Herbst ist eine wunderbare Zeit\, um die Fülle der Natur zu genießen und sich von den bunten Farben der Blätter inspirieren zu lassen. Es ist die perfekte Gelegenheit\, sich in der Küche kreativ auszutoben und köstliche vegetarische Gerichte zuzubereiten\, die den Gaumen verwöhnen. Lassen Sie sich von den Farben\, Aromen und der Fülle des Herbstes inspirieren und entdecken Sie die köstlichen Möglichkeiten einer vegetarischen Küche im Herbst. \n\nPreis Koch: 120\,-€\nPreis Gastesser: 60\,00\,-€\nZeitdauer: ca. 5 Stunden\nMindestteilnehmerzahl: Die Mindest-Teilnehmerzahl liegt bei 10 Personen und ist auf max. 15 Personen begrenzt. Wir behalten uns vor\, bei einer Unterschreitung der Personenanzahl\, den Kochkurs abzusagen. Gezahlte Beträge werden dann erstattet.\nAnzahl der Gastesser: Nach Absprache\nWenn Ihr mit einem Gutschein bezahlen möchtet\, schreibt und bitte eine Mail oder ruft uns an. Über die Homepage könnt Ihr leider noch nicht mit dem Gutschein zahlen.\n\nAls Kochkursteilnehmer\, bereiten Sie mit einen unser Köche ein 3 bis 4 Gang Menü zu. Alle Zutaten\, Kochutensilien als auch Schürzen stellen wir zur Verfügung! Im Preis enthalten: Speisen\, Wein\, Wasser\, Espresso und die gesetzliche Mehrwertsteuer. Das Abwaschen und Aufräumen übernehmen natürlich wir! \nAls Gastesser kommen Sie 2 Stunden nach Kochkursbeginn und genießen ein\, von unseren „Köchen“ kreiertes 3-Gänge-Menü! Im Preis enthalten: Speisen\, Wein\, Wasser\, Espresso und die gesetzliche Mehrwertsteuer. Das Abwaschen und Aufräumen übernehmen natürlich wir! \nBitte mit Voranmeldung. Es gelten unsere AGB´s
URL:https://hofkueche-berlin.de/event/kochkurs-vegetarischer-herbst/
CATEGORIES:Kochkurs,Kochkurs vegetarisch,vegetarisch
ATTACH;FMTTYPE=image/jpeg:https://hofkueche-berlin.de/wp-content/uploads/2022/12/IMG_3395-scaled.jpeg
END:VEVENT
BEGIN:VEVENT
DTSTART;TZID=Europe/Berlin:20250130T180000
DTEND;TZID=Europe/Berlin:20250130T223000
DTSTAMP:20260419T215243
CREATED:20241220T145546Z
LAST-MODIFIED:20250103T094107Z
UID:10001801-1738260000-1738276200@hofkueche-berlin.de
SUMMARY:Menü Abend - Hofküche kocht "Berliner-Küche-Tapas"
DESCRIPTION:Hofküche kocht „Berliner Küche-Tapas“ \nEine Tafel\, zwei oder drei Tafeln\, mal sehen wie viele von Euch kommen. Wir servieren Euch pro Gang 3 Berliner Kleinigkeiten \nCurrywurst zum Löffeln \n  \nSteckrübeneintopf\, grüne Bohnen\, Knacker \ngeräucherter Aal\, Petersiliensauce\, marinierte Gurken \nTafelspitz\, Meerrettich\, Bouillon Gemüse \n  \nKönigsberger Klopse\, Rote Bete\, Kapernsauce\, Kartoffelstampf \nGeschmorte Spanferkelhaxe\, Erbsenpüree\, Schwarz-Biersauce \nKalbsleber\, geröstete Zwiebeln\, Apfel\, Kartoffelstampf \n  \nPfannkuchen\, gefüllt \nBerliner Luft\, marinierte Himbeeren\, Vanilleeis \n  \nPreis pro Person ohne Getränke \n89\,- Euro inklusive Berliner Weise zur Begrüßung\, Wasser\, Dolle Molle\, Weißwein\, Rotwein und Kaffee \nDauer des Menüabends etwa 4 Stunden \nWenn Ihr mit einem Gutschein bezahlen möchtet\, schreibt und bitte eine Mail oder ruft uns an. Über die Homepage könnt Ihr leider noch nicht mit dem Gutschein zahlen. \nDie Mindest-Teilnehmerzahl liegt bei 16 Personen. Wir behalten uns vor\, bei einer Unterschreitung der Personenanzahl\, den Menüabend abzusagen. Gezahlte Beträge werden dann erstattet.
URL:https://hofkueche-berlin.de/event/menue-abend-hofkueche-kocht-berliner-kueche/
CATEGORIES:Event,Menü Abend
ATTACH;FMTTYPE=image/jpeg:https://hofkueche-berlin.de/wp-content/uploads/2024/01/2A82A57C-BE56-4A2F-878A-9CC32096FC4E.jpg
END:VEVENT
END:VCALENDAR