BEGIN:VCALENDAR
VERSION:2.0
PRODID:-//Hofküche Friedrichshagen - ECPv6.3.1//NONSGML v1.0//EN
CALSCALE:GREGORIAN
METHOD:PUBLISH
X-ORIGINAL-URL:https://hofkueche-berlin.de
X-WR-CALDESC:Veranstaltungen für Hofküche Friedrichshagen
REFRESH-INTERVAL;VALUE=DURATION:PT1H
X-Robots-Tag:noindex
X-PUBLISHED-TTL:PT1H
BEGIN:VTIMEZONE
TZID:Europe/Berlin
BEGIN:DAYLIGHT
TZOFFSETFROM:+0100
TZOFFSETTO:+0200
TZNAME:CEST
DTSTART:20260329T010000
END:DAYLIGHT
BEGIN:STANDARD
TZOFFSETFROM:+0200
TZOFFSETTO:+0100
TZNAME:CET
DTSTART:20261025T010000
END:STANDARD
END:VTIMEZONE
BEGIN:VEVENT
DTSTART;TZID=Europe/Berlin:20260531T160000
DTEND;TZID=Europe/Berlin:20260531T210000
DTSTAMP:20260421T105019
CREATED:20260331T132112Z
LAST-MODIFIED:20260331T134130Z
UID:10001839-1780243200-1780261200@hofkueche-berlin.de
SUMMARY:Menü - „Spargel\, die Verführung in 5 Gängen!"
DESCRIPTION:Menü – „Spargel\, die Verführung in 5 Gänge“\, ein Abend mit Kerzenschein und wunderbaren Essen in der Hofküche. \nDie Köche bereiten in der Eventküche ein 5 Gänge Menü zu \nCrémant zur Begrüßung \n\nSpargelminestrone\, Kerbelöl\, Spargelgeröstel\nSeezungenröllchen\, Grüner Spargel\, Hirse (pappa di miglio“ „millet al creme“)\, Schnittlauchöl\nWeißer Spargel\,  Avocado\, Sojajus\, Safranhollandaise\nLamm Kotelett & keule\, gebratener weißer Spargel\, Perlzwiebeln\, geschmorte Neue Kartoffeln\, Balsamicojus\nZitronentarte\, Vanilleparfait\, Schokoladencreme\n\n70\,- Preis pro Person inklusive Crémant zur Begrüßung\, weitere Getränke werden separat berechnet \nDie Mindest-Teilnehmerzahl liegt bei 16 Personen. \nWir behalten uns vor\, bei einer Unterschreitung der Personenanzahl\, den Menüabend abzusagen. Gezahlte Beträge werden dann erstattet. \nWenn Ihr mit einem Gutschein bezahlen möchtet\, schreibt und bitte eine Mail oder ruft uns an. Über die Homepage könnt Ihr leider noch nicht mit dem Gutschein zahlen. \n  \nEs gelten unsere AGB´s
URL:https://hofkueche-berlin.de/event/menue-spargel-die-verfuehrung-in-5-gaengen/
CATEGORIES:Menü Abend
ATTACH;FMTTYPE=image/jpeg:https://hofkueche-berlin.de/wp-content/uploads/2026/03/C6C86CFE-2CAD-411E-A20B-A0D53D6C5C76_1_105_c.jpeg
END:VEVENT
END:VCALENDAR