BEGIN:VCALENDAR
VERSION:2.0
PRODID:-//Hofküche Friedrichshagen - ECPv6.3.1//NONSGML v1.0//EN
CALSCALE:GREGORIAN
METHOD:PUBLISH
X-WR-CALNAME:Hofküche Friedrichshagen
X-ORIGINAL-URL:https://hofkueche-berlin.de
X-WR-CALDESC:Veranstaltungen für Hofküche Friedrichshagen
REFRESH-INTERVAL;VALUE=DURATION:PT1H
X-Robots-Tag:noindex
X-PUBLISHED-TTL:PT1H
BEGIN:VTIMEZONE
TZID:Europe/Berlin
BEGIN:DAYLIGHT
TZOFFSETFROM:+0100
TZOFFSETTO:+0200
TZNAME:CEST
DTSTART:20240331T010000
END:DAYLIGHT
BEGIN:STANDARD
TZOFFSETFROM:+0200
TZOFFSETTO:+0100
TZNAME:CET
DTSTART:20241027T010000
END:STANDARD
END:VTIMEZONE
BEGIN:VEVENT
DTSTART;TZID=Europe/Berlin:20240428T150000
DTEND;TZID=Europe/Berlin:20240428T200000
DTSTAMP:20260419T201620
CREATED:20160727T070939Z
LAST-MODIFIED:20240316T151601Z
UID:10001161-1714316400-1714334400@hofkueche-berlin.de
SUMMARY:Kochkurs - Spanische Küche
DESCRIPTION:Wer bisher glaubte\, die spanische Küche bestünde hauptsächlich aus Tapas\, der darf sich bei diesem Kurs gerne überraschen lassen: Denn tatsächlich ist sie ebenso vielseitig wie köstlich. Lernen Sie in diesem Kochkurs Spanisch Berlin\, wie man Gerichte wie z.b. Salate\, Gazpacho\, Meeresfrüchte und Creme Catalana zubereitet. Lassen Sie sich den Geschmack Spaniens auf der Zunge zergehen! \nGesund und gleichzeitig köstlich – das ist die Küche der iberischen Halbinsel. In diesem fünf Stunden dauernden Kurs erhalten Sie tiefe Einblicke in die Speisekarten zwischen Malaga und Barcelona. Erleben Sie einen feurigen Abend bei der Zubereitung und Verköstigung eines spanischen Menüs. \n\nPreis Koch: 115\,- €\nPreis Gastesser: 57\,50 €\nZeitdauer: ca. 5 Stunden\nMindestteilnehmerzahl: 10\nAnzahl der Gastesser: Nach Absprache\n\nAls Kochkursteilnehmer\, bereiten Sie mit einen unser Köche ein 4 Gang Menü zu. Alle Zutaten\, Kochutensilien als auch Schürzen stellen wir zur Verfügung! Im Preis enthalten: Speisen\, Wein\, Wasser\, Espresso und die gesetzliche Mehrwertsteuer. Das Abwaschen und Aufräumen übernehmen natürlich wir! \nAls Gastesser kommen Sie 2 Stunden nach Kochkursbeginn und genießen ein\, von unseren „Köchen“ kreiertes Menü! Im Preis enthalten: Speisen\, Wein\, Wasser\, Espresso und die gesetzliche Mehrwertsteuer. Das Abwaschen und Aufräumen übernehmen natürlich wir! \nBitte mit Voranmeldung. Es gelten unsere AGB´s \n  \n \n 
URL:https://hofkueche-berlin.de/event/spanische-kueche-6/
LOCATION:Friedrichshagener Hofküche\, Scharnweberstraße 2\, Berlin\, 12587
CATEGORIES:Kochkurs,Kochkurs mit Fleisch und/oder Fisch
ATTACH;FMTTYPE=image/jpeg:https://hofkueche-berlin.de/wp-content/uploads/2020/10/IMG_1508-scaled.jpg
END:VEVENT
END:VCALENDAR