BEGIN:VCALENDAR
VERSION:2.0
PRODID:-//Hofküche Friedrichshagen - ECPv6.3.1//NONSGML v1.0//EN
CALSCALE:GREGORIAN
METHOD:PUBLISH
X-WR-CALNAME:Hofküche Friedrichshagen
X-ORIGINAL-URL:https://hofkueche-berlin.de
X-WR-CALDESC:Veranstaltungen für Hofküche Friedrichshagen
REFRESH-INTERVAL;VALUE=DURATION:PT1H
X-Robots-Tag:noindex
X-PUBLISHED-TTL:PT1H
BEGIN:VTIMEZONE
TZID:Europe/Berlin
BEGIN:DAYLIGHT
TZOFFSETFROM:+0100
TZOFFSETTO:+0200
TZNAME:CEST
DTSTART:20200329T010000
END:DAYLIGHT
BEGIN:STANDARD
TZOFFSETFROM:+0200
TZOFFSETTO:+0100
TZNAME:CET
DTSTART:20201025T010000
END:STANDARD
END:VTIMEZONE
BEGIN:VEVENT
DTSTART;TZID=Europe/Berlin:20201219T163000
DTEND;TZID=Europe/Berlin:20201219T213000
DTSTAMP:20260423T135532
CREATED:20201126T140403Z
LAST-MODIFIED:20201126T150118Z
UID:10001768-1608395400-1608413400@hofkueche-berlin.de
SUMMARY:Winterliches-Menü zum Abholen!!!
DESCRIPTION:Menü zum Abholen in der Hofküche! \nAm Samstag\, 19. Dezember 2020 \nBestellungen bis Mittwoch 16. Dezember\, 12:00 Uhr \n  \nMenü \nhausgemachtes Gänserilette\, Gänseschmalz mit Grieben im Weckglas \nBaguette/Sauerteigbrot \nGebeizter Butternusskürbis\, Kürbispüree\, Balsamico\, Wildkräutersalat\, Granatapfelkerne \nAusgelöstes Hirsch-Ossobuco\, Johannisbeeren\, Walnusspolenta\, Rosenkohl\, Speck\, Apfel \nStollenküchlein\, Schokoladen-Nougatmousse\, Quitte \n  \nMenü Preis außer Haus 39€
URL:https://hofkueche-berlin.de/event/4-gang-weihnachtsmenue-2/
CATEGORIES:Event,Menü ToGo
ATTACH;FMTTYPE=image/jpeg:https://hofkueche-berlin.de/wp-content/uploads/2020/10/IMG_1781-scaled.jpg
END:VEVENT
END:VCALENDAR