BEGIN:VCALENDAR
VERSION:2.0
PRODID:-//Hofküche Friedrichshagen - ECPv6.3.1//NONSGML v1.0//EN
CALSCALE:GREGORIAN
METHOD:PUBLISH
X-WR-CALNAME:Hofküche Friedrichshagen
X-ORIGINAL-URL:https://hofkueche-berlin.de
X-WR-CALDESC:Veranstaltungen für Hofküche Friedrichshagen
REFRESH-INTERVAL;VALUE=DURATION:PT1H
X-Robots-Tag:noindex
X-PUBLISHED-TTL:PT1H
BEGIN:VTIMEZONE
TZID:Europe/Berlin
BEGIN:DAYLIGHT
TZOFFSETFROM:+0100
TZOFFSETTO:+0200
TZNAME:CEST
DTSTART:20240331T010000
END:DAYLIGHT
BEGIN:STANDARD
TZOFFSETFROM:+0200
TZOFFSETTO:+0100
TZNAME:CET
DTSTART:20241027T010000
END:STANDARD
BEGIN:DAYLIGHT
TZOFFSETFROM:+0100
TZOFFSETTO:+0200
TZNAME:CEST
DTSTART:20250330T010000
END:DAYLIGHT
BEGIN:STANDARD
TZOFFSETFROM:+0200
TZOFFSETTO:+0100
TZNAME:CET
DTSTART:20251026T010000
END:STANDARD
END:VTIMEZONE
BEGIN:VEVENT
DTSTART;TZID=Europe/Berlin:20250126T150000
DTEND;TZID=Europe/Berlin:20250126T200000
DTSTAMP:20260420T005425
CREATED:20241205T150005Z
LAST-MODIFIED:20250118T152511Z
UID:10001816-1737903600-1737921600@hofkueche-berlin.de
SUMMARY:Kochkurs - Alles aus aus dem Meer
DESCRIPTION:Alles aus aus dem Meer – Tipps rund um Fisch\, Krustentiere und Muscheln! \nKrustentiere oder Schalentiere ….  früher auch Krebstiere genannt zählen auf der ganzen Welt als Delikatesse. Vorrangig wird in Deutschland am liebsten die Garnele bzw. der Scampi gegessen. Auf dem zweiten Platz steht der Hummer und Muscheln gefolgt von Krebsen. Krustentiere sind sehr flexibel und Sie können aus diesen Meeresfrüchten ausgezeichnete Gerichte kochen. Die Schalen der Krustentiere sind keinesfalls Wegwerfprodukte\, sondern Sie können diese für hervorragende Krustentier Suppen und Krustentier Soßen verwenden. \n\nPreis Koch: 130\,-€\nPreis Gastesser: 65\,- €\nZeitdauer: ca. 5 Stunden\nMindestteilnehmerzahl: 10\nMindestteilnehmerzahl: Die Mindest-Teilnehmerzahl liegt bei 10 Personen und ist auf max. 15 Personen begrenzt. Wir behalten uns vor\, bei einer Unterschreitung der Personenanzahl\, den Kochkurs abzusagen. Gezahlte Beträge werden dann erstattet.\nAnzahl der Gastesser: Nach Absprache\n\nAls Kochkursteilnehmer\, bereiten Sie mit einen unser Köche ein 4 Gang Menü zu. Alle Zutaten\, Kochutensilien als auch Schürzen stellen wir zur Verfügung! Im Preis enthalten: Speisen\, Wein\, Wasser\, Espresso und die gesetzliche Mehrwertsteuer. Das Abwaschen und Aufräumen übernehmen natürlich wir! \nAls Gastesser kommen Sie 2 Stunden nach Kochkursbeginn und genießen ein\, von unseren „Köchen“ kreiertes Menü! Im Preis enthalten: Speisen\, Wein\, Wasser\, Espresso und die gesetzliche Mehrwertsteuer. Das Abwaschen und Aufräumen übernehmen natürlich wir! \nBitte mit Voranmeldung. Es gelten unsere AGB´s
URL:https://hofkueche-berlin.de/event/kochkurs-alles-aus-aus-dem-meer-2/
CATEGORIES:Kochkurs,Kochkurs mit Fleisch und/oder Fisch
ATTACH;FMTTYPE=image/jpeg:https://hofkueche-berlin.de/wp-content/uploads/2023/08/IMG_3758-rotated.jpg
END:VEVENT
BEGIN:VEVENT
DTSTART;TZID=Europe/Berlin:20240526T150000
DTEND;TZID=Europe/Berlin:20240526T200000
DTSTAMP:20260420T005425
CREATED:20240106T104504Z
LAST-MODIFIED:20240106T104504Z
UID:10001809-1716735600-1716753600@hofkueche-berlin.de
SUMMARY:Kochkurs - Alles aus aus dem Meer
DESCRIPTION:Alles aus aus dem Meer – Tipps rund um Fisch\, Krustentiere und Muscheln! \nKrustentiere oder Schalentiere ….  früher auch Krebstiere genannt zählen auf der ganzen Welt als Delikatesse. Vorrangig wird in Deutschland am liebsten die Garnele bzw. der Scampi gegessen. Auf dem zweiten Platz steht der Hummer und Muscheln gefolgt von Krebsen. Krustentiere sind sehr flexibel und Sie können aus diesen Meeresfrüchten ausgezeichnete Gerichte kochen. Die Schalen der Krustentiere sind keinesfalls Wegwerfprodukte\, sondern Sie können diese für hervorragende Krustentier Suppen und Krustentier Soßen verwenden. \n\nPreis Koch: 130\,-€\nPreis Gastesser: 65\,- €\nZeitdauer: ca. 5 Stunden\nMindestteilnehmerzahl: 10\nMindestteilnehmerzahl: Die Mindest-Teilnehmerzahl liegt bei 10 Personen und ist auf max. 15 Personen begrenzt. Wir behalten uns vor\, bei einer Unterschreitung der Personenanzahl\, den Kochkurs abzusagen. Gezahlte Beträge werden dann erstattet.\nAnzahl der Gastesser: Nach Absprache\n\nAls Kochkursteilnehmer\, bereiten Sie mit einen unser Köche ein 4 Gang Menü zu. Alle Zutaten\, Kochutensilien als auch Schürzen stellen wir zur Verfügung! Im Preis enthalten: Speisen\, Wein\, Wasser\, Espresso und die gesetzliche Mehrwertsteuer. Das Abwaschen und Aufräumen übernehmen natürlich wir! \nAls Gastesser kommen Sie 2 Stunden nach Kochkursbeginn und genießen ein\, von unseren „Köchen“ kreiertes Menü! Im Preis enthalten: Speisen\, Wein\, Wasser\, Espresso und die gesetzliche Mehrwertsteuer. Das Abwaschen und Aufräumen übernehmen natürlich wir! \nBitte mit Voranmeldung. Es gelten unsere AGB´s
URL:https://hofkueche-berlin.de/event/kochkurs-alles-aus-aus-dem-meer/
CATEGORIES:Kochkurs
ATTACH;FMTTYPE=image/jpeg:https://hofkueche-berlin.de/wp-content/uploads/2017/02/Photo-2017-01-14-15-05-39_4497.jpg
END:VEVENT
END:VCALENDAR