BEGIN:VCALENDAR
VERSION:2.0
PRODID:-//Hofküche Friedrichshagen - ECPv6.3.1//NONSGML v1.0//EN
CALSCALE:GREGORIAN
METHOD:PUBLISH
X-ORIGINAL-URL:https://hofkueche-berlin.de
X-WR-CALDESC:Veranstaltungen für Hofküche Friedrichshagen
REFRESH-INTERVAL;VALUE=DURATION:PT1H
X-Robots-Tag:noindex
X-PUBLISHED-TTL:PT1H
BEGIN:VTIMEZONE
TZID:Europe/Berlin
BEGIN:DAYLIGHT
TZOFFSETFROM:+0100
TZOFFSETTO:+0200
TZNAME:CEST
DTSTART:20200329T010000
END:DAYLIGHT
BEGIN:STANDARD
TZOFFSETFROM:+0200
TZOFFSETTO:+0100
TZNAME:CET
DTSTART:20201025T010000
END:STANDARD
BEGIN:DAYLIGHT
TZOFFSETFROM:+0100
TZOFFSETTO:+0200
TZNAME:CEST
DTSTART:20210328T010000
END:DAYLIGHT
BEGIN:STANDARD
TZOFFSETFROM:+0200
TZOFFSETTO:+0100
TZNAME:CET
DTSTART:20211031T010000
END:STANDARD
BEGIN:DAYLIGHT
TZOFFSETFROM:+0100
TZOFFSETTO:+0200
TZNAME:CEST
DTSTART:20220327T010000
END:DAYLIGHT
BEGIN:STANDARD
TZOFFSETFROM:+0200
TZOFFSETTO:+0100
TZNAME:CET
DTSTART:20221030T010000
END:STANDARD
BEGIN:DAYLIGHT
TZOFFSETFROM:+0100
TZOFFSETTO:+0200
TZNAME:CEST
DTSTART:20230326T010000
END:DAYLIGHT
BEGIN:STANDARD
TZOFFSETFROM:+0200
TZOFFSETTO:+0100
TZNAME:CET
DTSTART:20231029T010000
END:STANDARD
BEGIN:DAYLIGHT
TZOFFSETFROM:+0100
TZOFFSETTO:+0200
TZNAME:CEST
DTSTART:20240331T010000
END:DAYLIGHT
BEGIN:STANDARD
TZOFFSETFROM:+0200
TZOFFSETTO:+0100
TZNAME:CET
DTSTART:20241027T010000
END:STANDARD
BEGIN:DAYLIGHT
TZOFFSETFROM:+0100
TZOFFSETTO:+0200
TZNAME:CEST
DTSTART:20250330T010000
END:DAYLIGHT
BEGIN:STANDARD
TZOFFSETFROM:+0200
TZOFFSETTO:+0100
TZNAME:CET
DTSTART:20251026T010000
END:STANDARD
END:VTIMEZONE
BEGIN:VEVENT
DTSTART;TZID=Europe/Berlin:20250619T183000
DTEND;TZID=Europe/Berlin:20250619T223000
DTSTAMP:20260419T201817
CREATED:20250506T134440Z
LAST-MODIFIED:20250506T134624Z
UID:10001831-1750357800-1750372200@hofkueche-berlin.de
SUMMARY:"Spargelmenü" - der beste Spargel kommt zum Schluss!
DESCRIPTION:Der beste Spargel kommt zum Schluss in unserem Spargel-Menü\, ein Abend mit Kerzenschein und wunderbaren Essen in der Hofküche. \nDie Köche bereiten in der Eventküche ein 4 Gänge Menü zu \nCrémant zur Begrüßung \nSteinbutt-Spargel-Ceviche\, Limette\, Chili\, Koriander\, Brot-Chip \ngrüner Spargel in Tempura\,  Wildfang Garnele\, Mango-Chili-Aioli\, Daikon Kresse \nSpargelrisotto\, gegrillter grüner Spargel\, Wachtel \nSchulter und Rücken vom Lamm\, gebratener Spargel\, gebratene Quetschkartoffeln\, Gremolata \nJoghurt-Zitronenmousse\, Thymian-Nektarine\, Moccaeiscreme\, Rum-Honig-Hippe \n62\,- Preis pro Person inklusive Crémant zur Begrüßung\, weitere Getränke werden separat berechnet \nDie Mindest-Teilnehmerzahl liegt bei 16 Personen. \nWir behalten uns vor\, bei einer Unterschreitung der Personenanzahl\, den Menüabend abzusagen. Gezahlte Beträge werden dann erstattet. \nWenn Ihr mit einem Gutschein bezahlen möchtet\, schreibt und bitte eine Mail oder ruft uns an. Über die Homepage könnt Ihr leider noch nicht mit dem Gutschein zahlen. \n  \nEs gelten unsere AGB´s \n 
URL:https://hofkueche-berlin.de/event/spargelmenue-der-beste-spargel-kommt-zum-schluss/
CATEGORIES:Menü Abend
ATTACH;FMTTYPE=image/jpeg:https://hofkueche-berlin.de/wp-content/uploads/2020/05/IMG_1461-scaled.jpeg
END:VEVENT
BEGIN:VEVENT
DTSTART;TZID=Europe/Berlin:20250430T180000
DTEND;TZID=Europe/Berlin:20250430T220000
DTSTAMP:20260419T201817
CREATED:20250506T120547Z
LAST-MODIFIED:20250506T133711Z
UID:10001824-1746036000-1746050400@hofkueche-berlin.de
SUMMARY:"Spargel" Menüabend - der beste Spargel kommt zum Schluss
DESCRIPTION:Der beste Spargel kommt zum Schluss in unserem Spargel-Menü\, ein Abend mit Kerzenschein und wunderbaren Essen in der Hofküche. \nDie Köche bereiten in der Eventküche ein 4 Gänge Menü zu \nCrémant zur Begrüßung \nSteinbutt-Spargel-Ceviche\, Limette\, Chili\, Koriander\, Brot-Chip \ngrüner Spargel in Tempura\,  Wildfang Garnele\, Mango-Chili-Aioli\, Daikon Kresse \nSpargelrisotto\, gegrillter grüner Spargel\, Wachtel \nSchulter und Rücken vom Lamm\, gebratener Spargel\, gebratene Quetschkartoffeln\, Gremolata \nJoghurt-Zitronenmousse\, Thymian-Nektarine\, Moccaeiscreme\, Rum-Honig-Hippe \n62\,- Preis pro Person inklusive Crémant zur Begrüßung\, weitere Getränke werden separat berechnet \nDie Mindest-Teilnehmerzahl liegt bei 16 Personen. Wir behalten uns vor\, bei einer Unterschreitung der Personenanzahl\, den Menüabend abzusagen. Gezahlte Beträge werden dann erstattet. \nWenn Ihr mit einem Gutschein bezahlen möchtet\, schreibt und bitte eine Mail oder ruft uns an. Über die Homepage könnt Ihr leider noch nicht mit dem Gutschein zahlen.
URL:https://hofkueche-berlin.de/event/spargel-menueabend-wir-lieben-den-fruehling/
CATEGORIES:Event,Menü Abend
ATTACH;FMTTYPE=image/jpeg:https://hofkueche-berlin.de/wp-content/uploads/2020/05/IMG_1460-scaled.jpeg
END:VEVENT
BEGIN:VEVENT
DTSTART;TZID=Europe/Berlin:20240502T180000
DTEND;TZID=Europe/Berlin:20240502T230000
DTSTAMP:20260419T201817
CREATED:20240105T113745Z
LAST-MODIFIED:20240105T121430Z
UID:10001805-1714672800-1714690800@hofkueche-berlin.de
SUMMARY:Menüabend - Frühlingserwachen II
DESCRIPTION:Frühlingserwachen Menü!\n \n6 Gänge Menü Frühlingserwachen \nAusterntartar\, Sellerie-Zitronencreme\, Petersilienespuma \nMinestrone vom Spargel\, Fregola\, Parmesanchip\, gerösteter Pfeffer \nCeviche\, grüne Tomaten\, Koriander\, Frühlingslauch\, Bananenchip \nSpargel\, Sauce Hollandaise\, Ei\, Crumble \nRinderfilet\, Grillzwiebel Relish\, Spinatblini\, Ratatouille\, Basilikum \nVanille- Rhabarberparfait\, Moccabisquit\,  Holunderblüten\, Chili \nZum Preis von 88\,-€ pro Person gibt es zur Begrüßung ein Glas Cremant und während des Menüs unseren charmanten Service. \nInteressierte Gourmets bitten wir rechtzeitig zu reservieren\, per Telefon\, Mail oder persönlich in der Friedrichshagener Hofküche. \n \n 
URL:https://hofkueche-berlin.de/event/menueabend-fruehlingserwachen/
CATEGORIES:Menü Abend
ATTACH;FMTTYPE=image/jpeg:https://hofkueche-berlin.de/wp-content/uploads/2020/05/IMG_1460-scaled.jpeg
END:VEVENT
BEGIN:VEVENT
DTSTART;TZID=Europe/Berlin:20240411T180000
DTEND;TZID=Europe/Berlin:20240411T230000
DTSTAMP:20260419T201817
CREATED:20240105T122111Z
LAST-MODIFIED:20240302T151912Z
UID:10001806-1712858400-1712876400@hofkueche-berlin.de
SUMMARY:Frühlingserwachen - Menüabend!
DESCRIPTION:Frühlingserwachen Menü! \nrohmarinierter grüner Spargel\, getrockneten Aprikosen\, Kirschtomaten\, Kerne\, Petersilie\, Wildkräuter \nSous Vide gegarte Jakobsmuschel\, Gemüse\, Karotten-Ingwercreme\, Zitronen-Petersilienöl \nKabeljau\, Spargel\, Miso\, Avocado \nrückwärts gegartes Kalbsfilet\, Zuckerschoten\, Romanasalat\, Kartoffelstampf\, Jus \nTopfensoufflé\, Kakao – Chilisauce\, Rhabarber\, Vanilleeis \nZum Preis von 83\,-€ pro Person gibt es zur Begrüßung ein Glas Cremant und während des Menüs unseren charmanten Service. Getränke werden separat berechnet \nInteressierte Gourmets bitten wir rechtzeitig zu reservieren\, per Telefon\, Mail oder persönlich in der Friedrichshagener Hofküche.
URL:https://hofkueche-berlin.de/event/fruehlingserwachen-menue/
ATTACH;FMTTYPE=image/jpeg:https://hofkueche-berlin.de/wp-content/uploads/2020/05/IMG_1461-scaled.jpeg
END:VEVENT
BEGIN:VEVENT
DTSTART;TZID=Europe/Berlin:20230511T183000
DTEND;TZID=Europe/Berlin:20230511T183000
DTSTAMP:20260419T201817
CREATED:20160316T184713Z
LAST-MODIFIED:20221204T173326Z
UID:10000949-1683829800-1683829800@hofkueche-berlin.de
SUMMARY:Kochkurs "Spargelzeit"
DESCRIPTION:Sauce Hollandaise\, frischer Spargel\, Kartoffeln und frischer Schinken\, da bekommt man doch glatt kulinarisches Herzklopfen. Erleben Sie im Spargel Kochkurs\, wie man dieses frische Gemüse optimal zubereitet und lernen Sie die Unterschiede zwischen grünem und weißem Spargel kennen. Ihr Spargel Kochkurs zeigt Ihnen auch\, wie vielseitig dieses tolle Gemüse sein kann und welche Geschmackskombinationen damit möglich sind und das nicht nur gekocht\, sondern auch roh im Salat! \n\nPreis Koch: 100\,-€\nPreis Gastesser: 50\,-€\nZeitdauer: ca. 5 Stunden\nMindestteilnehmerzahl: Die Mindest-Teilnehmerzahl liegt bei 10 Personen und ist auf max. 15 Personen begrenzt. Wir behalten uns vor\, bei einer Unterschreitung der Personenanzahl\, den Kochkurs abzusagen. Gezahlte Beträge werden dann erstattet.\nAnzahl der Gastesser: Nach Absprache\n\nAls Kochkursteilnehmer\, bereiten Sie mit einen unserer Köche ein 4 Gang Menü zu. Alle Zutaten\, Kochutensilien als auch Schürzen stellen wir zur Verfügung! Im Preis enthalten: Speisen\, Wein\, Wasser\, Espresso und die gesetzliche Mehrwertsteuer. Das Abwaschen und Aufräumen übernehmen natürlich wir! \nAls Gastesser kommen Sie 2 Stunden nach Kochkursbeginn und genießen ein\, von unseren „Köchen“ kreiertes 4-Gänge-Menü! Im Preis enthalten: Speisen\, Wein\, Wasser\, Espresso und die gesetzliche Mehrwertsteuer. Das Abwaschen und Aufräumen übernehmen natürlich wir! \nBitte mit Voranmeldung. Es gelten unsere AGB´s
URL:https://hofkueche-berlin.de/event/spargelzeit-5/
LOCATION:Friedrichshagener Hofküche\, Scharnweberstraße 2\, Berlin\, 12587
CATEGORIES:Kochkurs
END:VEVENT
BEGIN:VEVENT
DTSTART;TZID=Europe/Berlin:20210523T120000
DTEND;TZID=Europe/Berlin:20210523T183000
DTSTAMP:20260419T201817
CREATED:20210515T132236Z
LAST-MODIFIED:20210515T132236Z
UID:10001782-1621771200-1621794600@hofkueche-berlin.de
SUMMARY:„Frühlings“ Menü
DESCRIPTION:Sonntag 23. Mai \n„Frühlings“ Menü  \nFocaccia\, Avocadodip \nSpargeltarte \ngeschmortes vom Lamm\, \nzweierlei Spargel aus dem Ofen\, \nKartoffelstrudel\, \nRhabarber-Chutney \nVegetarische Option: \nzweierlei Spargel aus dem Ofen\, \nKirschtomatenragout\, \nKartoffelstrudel\, \nRhabarber-Chutney \nErdbeertiramisu\, Kakao \nMenü 39\,- Euro pro Person
URL:https://hofkueche-berlin.de/event/fruehlings-menue/
CATEGORIES:Menü ToGo
END:VEVENT
BEGIN:VEVENT
DTSTART;TZID=Europe/Berlin:20210515T123000
DTEND;TZID=Europe/Berlin:20210515T170000
DTSTAMP:20260419T201817
CREATED:20210505T124215Z
LAST-MODIFIED:20210505T124215Z
UID:10001779-1621081800-1621098000@hofkueche-berlin.de
SUMMARY:„Spargel Menü“- ToGo
DESCRIPTION:Samstag 15. Mai \n… und weil gerade Saison ist! \n„Spargel Menü“ \ngebratener Spargel\, Pancetta-Filoteigröllchen\, \nTomaten-Orangenbutter\, Parmesan\, Kresse \n  \ngeschmorte Kalbsroulade\, \ngetr. Tomaten\, Speck\, Zwiebel\, weißer Spargel \nPetersilien-Gnocchi\, Thymianjus \n  \nSchokoladen-Schmand Mousse\, Erdbeeren\, Zitronenmelisse \n  \nMenü 39\,- € Euro pro Person \nBestellungen und Reservierungen nehmen wir\, bis zum Donnerstag 13. Mai\, gerne per Mail oder Telefon an.
URL:https://hofkueche-berlin.de/event/spargel-menue-togo-2/
CATEGORIES:Event,Menü ToGo
END:VEVENT
BEGIN:VEVENT
DTSTART;TZID=Europe/Berlin:20210501T080000
DTEND;TZID=Europe/Berlin:20210501T170000
DTSTAMP:20260419T201817
CREATED:20210424T153650Z
LAST-MODIFIED:20210424T153719Z
UID:10001776-1619856000-1619888400@hofkueche-berlin.de
SUMMARY:„Spargel Menü“- ToGo
DESCRIPTION:Samstag 1. Mai 2021 \n„Spargel Menü“ \nSpargelsalat aus rohmariniertem Spargel\, \nTomaten\, Kerne\, getrocknete Aprikosen\, Petersilie \ngeschmorte Spanferkelbäckchen\, gebratener Spargel\, \nKartoffel-Wasabistampf\, Sojajus \nSauerrahmtarte\, Erdbeeren \nMenü 39\,- € Euro pro Person \n  \nBestellungen und Reservierungen nehmen wir gerne per Mail oder Telefon an. \n030/ 65499270             info@hofküche-berlin.de
URL:https://hofkueche-berlin.de/event/spargel-menue-togo/
CATEGORIES:Event
ATTACH;FMTTYPE=image/jpeg:https://hofkueche-berlin.de/wp-content/uploads/2021/03/IMG_2035.jpeg
END:VEVENT
BEGIN:VEVENT
DTSTART;TZID=Europe/Berlin:20210424T080000
DTEND;TZID=Europe/Berlin:20210424T170000
DTSTAMP:20260419T201817
CREATED:20210410T141528Z
LAST-MODIFIED:20210410T141625Z
UID:10001775-1619251200-1619283600@hofkueche-berlin.de
SUMMARY:Menü -„„Cross Over“  zum Mitnehmen....
DESCRIPTION:Samstag 24. April 2021 \n„Cross Over“ – Menü \ngebratener weißer Spargel\, Zanderfilet\, \nAvocadodip\, Sojareduktion \nKalbsbäckchen\, Mairübe\, \ngeröstete Karotten\, rote Zwiebelmarmelade\, Kartoffelbaumkuchen \nVegetarische Alternative \n Frühlingsrolle mit Gemüse\, Mairübe\, geröstete Karotten\, rote Zwiebelmarmelade \nKartoffelbaumkuchen \nEierlikör-Orangenmousse\, Schokolade\, Chili-Hippe \nMenü 39\,- Euro pro Person
URL:https://hofkueche-berlin.de/event/menue-cross-over-zum-mitnehmen/
ATTACH;FMTTYPE=image/jpeg:https://hofkueche-berlin.de/wp-content/uploads/2020/05/IMG_1461-scaled.jpeg
END:VEVENT
BEGIN:VEVENT
DTSTART;TZID=Europe/Berlin:20210410T150000
DTEND;TZID=Europe/Berlin:20210410T190000
DTSTAMP:20260419T201817
CREATED:20210404T121126Z
LAST-MODIFIED:20210404T154850Z
UID:10001772-1618066800-1618081200@hofkueche-berlin.de
SUMMARY:Menü -„Frühlingserwachen“  zum Mitnehmen....
DESCRIPTION:Menü für den 10. April 2021  \n„Frühlingserwachen“ \n  \nFladenbrot\, Sesam und Gewürz\, Joghurtdip mit Minze \n„Pastasalat“ \nknackiges Gemüse\, Conchiglioni\, Parmesan\, Rucola \ngetrocknete Tomaten \nMaishuhn\, Bärlauch\, neue Kartoffeln\, Spargel\, \n Weißweinjus \nRhabarber-Tiramisu \nMenü Preis außer Haus 39€ pro Person \n  \nInteressierte Gourmets bitten wir bis zum 8. April\, 12 Uhr per Mail oder Telefon zu bestellen.
URL:https://hofkueche-berlin.de/event/menue-der-friedrichshagener-hofkueche-zum-mitnehmen-2-2-2-2-3/
CATEGORIES:Menü ToGo
ATTACH;FMTTYPE=image/jpeg:https://hofkueche-berlin.de/wp-content/uploads/2021/03/IMG_0266.jpeg
END:VEVENT
BEGIN:VEVENT
DTSTART;VALUE=DATE:20210403
DTEND;VALUE=DATE:20210405
DTSTAMP:20260419T201817
CREATED:20210318T132325Z
LAST-MODIFIED:20210319T150858Z
UID:10001771-1617408000-1617580799@hofkueche-berlin.de
SUMMARY:Oster-Menü der Friedrichshagener Hofküche zum Mitnehmen....
DESCRIPTION:Ostern  \nSamstag und Sonntag 3. & 4. April 2021 \nKräuterfocaccia\, Oliven\, Tomatenpesto \n  \nSalat aus grünem Spargel\, getrocknete Aprikosen\, Orangen\, \nPinienkernen\, Tomaten\, Petersilie \nMit Feta & Tomate gefüllte Maishähnchenrolle \n  \nGeschmorte\, ausgelöste Lammhaxe\, breite Bohnen\, Kartoffelgnocchi\, \nBohnenmousse\, Jus \n  \nEierlikörmousse\, Biskuit\, Orangenfilets\, \nSchokoladensauce mit Chili \nMenü Preis außer Haus 39€ p.P. \n  \nInteressierte Gourmets bitten wir bis zum 31. März\, 12 Uhr per Mail oder Telefon zu bestellen.
URL:https://hofkueche-berlin.de/event/menue-der-friedrichshagener-hofkueche-zum-mitnehmen-2-2-2-2-2/
CATEGORIES:Menü ToGo
ATTACH;FMTTYPE=image/jpeg:https://hofkueche-berlin.de/wp-content/uploads/2019/03/IMG_0848.jpeg
END:VEVENT
BEGIN:VEVENT
DTSTART;TZID=Europe/Berlin:20200329T163000
DTEND;TZID=Europe/Berlin:20200329T233000
DTSTAMP:20260419T201817
CREATED:20191207T154000Z
LAST-MODIFIED:20200319T104032Z
UID:10001752-1585499400-1585524600@hofkueche-berlin.de
SUMMARY:Frühlingserwachen 6 Gänge-Menü! In der Hoffnung auf Frühling...haben wir aus gegebenen Anlass abgesagt!
DESCRIPTION:Frühlingserwachen 6 Gänge-Menü! In der Hoffnung auf Frühling… findet aus gegebenen Anlass nicht statt!\n \nDas Menü werden wir auf jedenfall zu einem späteren Zeitpunkt noch einmal anbieten. \nIn der Friedrichshagener Hofküche bieten\, am 29. März\, um 16:30 Uhr\, Myrna und Matthias ein 6-Gänge Menü an.\nZum Preis von 54\,-€ pro Person gibt es zur Begrüßung ein Glas Cremant und während des Menüs unseren charmanten Service. \nInteressierte Gourmets bitten wir rechtzeitig zu reservieren\, per Telefon\, Mail oder persönlich in der Friedrichshagener Hofküche.
URL:https://hofkueche-berlin.de/event/fruehlingserwachen-6-gaenge-menue-in-der-hoffnung-auf-fruehling/
CATEGORIES:Event
END:VEVENT
END:VCALENDAR