BEGIN:VCALENDAR
VERSION:2.0
PRODID:-//Hofküche Friedrichshagen - ECPv6.3.1//NONSGML v1.0//EN
CALSCALE:GREGORIAN
METHOD:PUBLISH
X-ORIGINAL-URL:https://hofkueche-berlin.de
X-WR-CALDESC:Veranstaltungen für Hofküche Friedrichshagen
REFRESH-INTERVAL;VALUE=DURATION:PT1H
X-Robots-Tag:noindex
X-PUBLISHED-TTL:PT1H
BEGIN:VTIMEZONE
TZID:Europe/Berlin
BEGIN:DAYLIGHT
TZOFFSETFROM:+0100
TZOFFSETTO:+0200
TZNAME:CEST
DTSTART:20210328T010000
END:DAYLIGHT
BEGIN:STANDARD
TZOFFSETFROM:+0200
TZOFFSETTO:+0100
TZNAME:CET
DTSTART:20211031T010000
END:STANDARD
END:VTIMEZONE
BEGIN:VEVENT
DTSTART;TZID=Europe/Berlin:20210327T150000
DTEND;TZID=Europe/Berlin:20210327T190000
DTSTAMP:20260420T004102
CREATED:20210311T215534Z
LAST-MODIFIED:20210318T133726Z
UID:10001770-1616857200-1616871600@hofkueche-berlin.de
SUMMARY:"Vegetarisches Menü" der Friedrichshagener Hofküche zum Mitnehmen....
DESCRIPTION:Menü für den 27. März 2021 \n„Vegetarische Küche“ \n  \nBrotsalat aus Kräuterfocaccia\, Oliven\, Kapern\, Gemüse\, \nTomatendip \n– \nMangoldstrudel\, Taleggiokäse\, Rosinen\, Pinienkernen \nvegetarische Jus \n– \nMango-Bisquittörtchen\, Schokolade\, \nChili \nMenü Preis außer Haus 39€ pro Person \n  \nInteressierte Gourmets bitten wir bis zum 25. März\, 12 Uhr per Mail oder Telefon zu bestellen.
URL:https://hofkueche-berlin.de/event/menue-der-friedrichshagener-hofkueche-zum-mitnehmen-2-2-2-2/
CATEGORIES:Menü ToGo
ATTACH;FMTTYPE=image/jpeg:https://hofkueche-berlin.de/wp-content/uploads/2020/10/IMG_1665-scaled.jpg
END:VEVENT
END:VCALENDAR